BEGIN:VCALENDAR
VERSION:2.0
PRODID:-//CPC - ECPv6.15.20//NONSGML v1.0//EN
CALSCALE:GREGORIAN
METHOD:PUBLISH
X-WR-CALNAME:CPC
X-ORIGINAL-URL:https://cpcbalt.com
X-WR-CALDESC:Events for CPC
REFRESH-INTERVAL;VALUE=DURATION:PT1H
X-Robots-Tag:noindex
X-PUBLISHED-TTL:PT1H
BEGIN:VTIMEZONE
TZID:America/New_York
BEGIN:DAYLIGHT
TZOFFSETFROM:-0500
TZOFFSETTO:-0400
TZNAME:EDT
DTSTART:20230312T070000
END:DAYLIGHT
BEGIN:STANDARD
TZOFFSETFROM:-0400
TZOFFSETTO:-0500
TZNAME:EST
DTSTART:20231105T060000
END:STANDARD
BEGIN:DAYLIGHT
TZOFFSETFROM:-0500
TZOFFSETTO:-0400
TZNAME:EDT
DTSTART:20240310T070000
END:DAYLIGHT
BEGIN:STANDARD
TZOFFSETFROM:-0400
TZOFFSETTO:-0500
TZNAME:EST
DTSTART:20241103T060000
END:STANDARD
BEGIN:DAYLIGHT
TZOFFSETFROM:-0500
TZOFFSETTO:-0400
TZNAME:EDT
DTSTART:20250309T070000
END:DAYLIGHT
BEGIN:STANDARD
TZOFFSETFROM:-0400
TZOFFSETTO:-0500
TZNAME:EST
DTSTART:20251102T060000
END:STANDARD
BEGIN:DAYLIGHT
TZOFFSETFROM:-0500
TZOFFSETTO:-0400
TZNAME:EDT
DTSTART:20260308T070000
END:DAYLIGHT
BEGIN:STANDARD
TZOFFSETFROM:-0400
TZOFFSETTO:-0500
TZNAME:EST
DTSTART:20261101T060000
END:STANDARD
END:VTIMEZONE
BEGIN:VEVENT
DTSTART;TZID=America/New_York:20250221T190000
DTEND;TZID=America/New_York:20250221T220000
DTSTAMP:20260423T184741
CREATED:20250205T203238Z
LAST-MODIFIED:20250205T203245Z
UID:10000091-1740164400-1740175200@cpcbalt.com
SUMMARY:Levi & Leather - Mx MD Valentine Edition
DESCRIPTION:
URL:https://cpcbalt.com/event/levi-leather-mx-md-valentine-edition/
CATEGORIES:L&L
END:VEVENT
BEGIN:VEVENT
DTSTART;TZID=America/New_York:20241213T190000
DTEND;TZID=America/New_York:20241213T220000
DTSTAMP:20260423T184741
CREATED:20241120T195806Z
LAST-MODIFIED:20241206T170427Z
UID:10000064-1734116400-1734127200@cpcbalt.com
SUMMARY:Levi and Leather
DESCRIPTION:
URL:https://cpcbalt.com/event/levi-and-leather/
CATEGORIES:L&L
END:VEVENT
BEGIN:VEVENT
DTSTART;TZID=America/New_York:20241116T190000
DTEND;TZID=America/New_York:20241116T220000
DTSTAMP:20260423T184741
CREATED:20241030T174124Z
LAST-MODIFIED:20241030T174124Z
UID:10000062-1731783600-1731794400@cpcbalt.com
SUMMARY:Levi & Leather: Vixxens Back from the Dead
DESCRIPTION:
URL:https://cpcbalt.com/event/levi-leather-vixxens-back-from-the-dead/
CATEGORIES:L&L
END:VEVENT
END:VCALENDAR