BEGIN:VCALENDAR
VERSION:2.0
PRODID:-//CPC - ECPv6.15.20//NONSGML v1.0//EN
CALSCALE:GREGORIAN
METHOD:PUBLISH
X-ORIGINAL-URL:https://cpcbalt.com
X-WR-CALDESC:Events for CPC
REFRESH-INTERVAL;VALUE=DURATION:PT1H
X-Robots-Tag:noindex
X-PUBLISHED-TTL:PT1H
BEGIN:VTIMEZONE
TZID:America/New_York
BEGIN:DAYLIGHT
TZOFFSETFROM:-0500
TZOFFSETTO:-0400
TZNAME:EDT
DTSTART:20230312T070000
END:DAYLIGHT
BEGIN:STANDARD
TZOFFSETFROM:-0400
TZOFFSETTO:-0500
TZNAME:EST
DTSTART:20231105T060000
END:STANDARD
BEGIN:DAYLIGHT
TZOFFSETFROM:-0500
TZOFFSETTO:-0400
TZNAME:EDT
DTSTART:20240310T070000
END:DAYLIGHT
BEGIN:STANDARD
TZOFFSETFROM:-0400
TZOFFSETTO:-0500
TZNAME:EST
DTSTART:20241103T060000
END:STANDARD
BEGIN:DAYLIGHT
TZOFFSETFROM:-0500
TZOFFSETTO:-0400
TZNAME:EDT
DTSTART:20250309T070000
END:DAYLIGHT
BEGIN:STANDARD
TZOFFSETFROM:-0400
TZOFFSETTO:-0500
TZNAME:EST
DTSTART:20251102T060000
END:STANDARD
BEGIN:DAYLIGHT
TZOFFSETFROM:-0500
TZOFFSETTO:-0400
TZNAME:EDT
DTSTART:20260308T070000
END:DAYLIGHT
BEGIN:STANDARD
TZOFFSETFROM:-0400
TZOFFSETTO:-0500
TZNAME:EST
DTSTART:20261101T060000
END:STANDARD
END:VTIMEZONE
BEGIN:VEVENT
DTSTART;TZID=America/New_York:20250316T170000
DTEND;TZID=America/New_York:20250316T200000
DTSTAMP:20260423T173516
CREATED:20250226T211405Z
LAST-MODIFIED:20250303T212015Z
UID:10000094-1742144400-1742155200@cpcbalt.com
SUMMARY:St. Patty’s Day Dinner
DESCRIPTION:
URL:https://cpcbalt.com/event/st-pattys-day-dinner/
CATEGORIES:Special Event
END:VEVENT
BEGIN:VEVENT
DTSTART;TZID=America/New_York:20241231T180000
DTEND;TZID=America/New_York:20241231T220000
DTSTAMP:20260423T173516
CREATED:20241204T194555Z
LAST-MODIFIED:20241204T194555Z
UID:10000068-1735668000-1735682400@cpcbalt.com
SUMMARY:New Year Eve
DESCRIPTION:
URL:https://cpcbalt.com/event/new-year-eve/
LOCATION:Clifton Pleasure Club\, 2803 Grindon Avenue\, Baltimore\, MD\, 21214\, United States
CATEGORIES:Special Event
END:VEVENT
BEGIN:VEVENT
DTSTART;TZID=America/New_York:20241207T180000
DTEND;TZID=America/New_York:20241207T210000
DTSTAMP:20260423T173516
CREATED:20241120T195656Z
LAST-MODIFIED:20241120T195656Z
UID:10000063-1733594400-1733605200@cpcbalt.com
SUMMARY:Social Justice Gumbo
DESCRIPTION:
URL:https://cpcbalt.com/event/social-justice-gumbo/
CATEGORIES:Special Event
END:VEVENT
BEGIN:VEVENT
DTSTART;TZID=America/New_York:20241123T110000
DTEND;TZID=America/New_York:20241123T150000
DTSTAMP:20260423T173516
CREATED:20241030T174016Z
LAST-MODIFIED:20241030T174016Z
UID:10000061-1732359600-1732374000@cpcbalt.com
SUMMARY:Queer Brunch
DESCRIPTION:
URL:https://cpcbalt.com/event/queer-brunch/
CATEGORIES:Special Event
END:VEVENT
BEGIN:VEVENT
DTSTART;TZID=America/New_York:20241102T180000
DTEND;TZID=America/New_York:20241102T210000
DTSTAMP:20260423T173516
CREATED:20241023T155201Z
LAST-MODIFIED:20241023T155201Z
UID:10000001-1730570400-1730581200@cpcbalt.com
SUMMARY:Oyster Nights
DESCRIPTION:
URL:https://cpcbalt.com/event/oyster-nights/
CATEGORIES:Special Event
END:VEVENT
BEGIN:VEVENT
DTSTART;TZID=America/New_York:20241026T180000
DTEND;TZID=America/New_York:20241026T210000
DTSTAMP:20260423T173516
CREATED:20241023T162350Z
LAST-MODIFIED:20241023T162514Z
UID:10000002-1729965600-1729976400@cpcbalt.com
SUMMARY:Monster Mash - Annual Halloween Party
DESCRIPTION:
URL:https://cpcbalt.com/event/monster-mash-annual-halloween-party/
CATEGORIES:Special Event
END:VEVENT
END:VCALENDAR