BEGIN:VCALENDAR
VERSION:2.0
PRODID:-//CPC - ECPv6.15.20//NONSGML v1.0//EN
CALSCALE:GREGORIAN
METHOD:PUBLISH
X-WR-CALNAME:CPC
X-ORIGINAL-URL:https://cpcbalt.com
X-WR-CALDESC:Events for CPC
REFRESH-INTERVAL;VALUE=DURATION:PT1H
X-Robots-Tag:noindex
X-PUBLISHED-TTL:PT1H
BEGIN:VTIMEZONE
TZID:America/New_York
BEGIN:DAYLIGHT
TZOFFSETFROM:-0500
TZOFFSETTO:-0400
TZNAME:EDT
DTSTART:20230312T070000
END:DAYLIGHT
BEGIN:STANDARD
TZOFFSETFROM:-0400
TZOFFSETTO:-0500
TZNAME:EST
DTSTART:20231105T060000
END:STANDARD
BEGIN:DAYLIGHT
TZOFFSETFROM:-0500
TZOFFSETTO:-0400
TZNAME:EDT
DTSTART:20240310T070000
END:DAYLIGHT
BEGIN:STANDARD
TZOFFSETFROM:-0400
TZOFFSETTO:-0500
TZNAME:EST
DTSTART:20241103T060000
END:STANDARD
BEGIN:DAYLIGHT
TZOFFSETFROM:-0500
TZOFFSETTO:-0400
TZNAME:EDT
DTSTART:20250309T070000
END:DAYLIGHT
BEGIN:STANDARD
TZOFFSETFROM:-0400
TZOFFSETTO:-0500
TZNAME:EST
DTSTART:20251102T060000
END:STANDARD
BEGIN:DAYLIGHT
TZOFFSETFROM:-0500
TZOFFSETTO:-0400
TZNAME:EDT
DTSTART:20260308T070000
END:DAYLIGHT
BEGIN:STANDARD
TZOFFSETFROM:-0400
TZOFFSETTO:-0500
TZNAME:EST
DTSTART:20261101T060000
END:STANDARD
END:VTIMEZONE
BEGIN:VEVENT
DTSTART;TZID=America/New_York:20250306T180000
DTEND;TZID=America/New_York:20250306T210000
DTSTAMP:20260423T145718
CREATED:20250122T223729Z
LAST-MODIFIED:20250304T145330Z
UID:10000085-1741284000-1741294800@cpcbalt.com
SUMMARY:Thursday Night Chili
DESCRIPTION:
URL:https://cpcbalt.com/event/thursday-night-chili/
CATEGORIES:TND
END:VEVENT
BEGIN:VEVENT
DTSTART;TZID=America/New_York:20241219T180000
DTEND;TZID=America/New_York:20241219T210000
DTSTAMP:20260423T145718
CREATED:20241203T195846Z
LAST-MODIFIED:20241204T193022Z
UID:10000067-1734631200-1734642000@cpcbalt.com
SUMMARY:Meatloaf
DESCRIPTION:
URL:https://cpcbalt.com/event/meatloaf/
CATEGORIES:TND
END:VEVENT
BEGIN:VEVENT
DTSTART;TZID=America/New_York:20241031T180000
DTEND;TZID=America/New_York:20241031T210000
DTSTAMP:20260423T145718
CREATED:20241023T162453Z
LAST-MODIFIED:20241023T162453Z
UID:10000003-1730397600-1730408400@cpcbalt.com
SUMMARY:Pozole
DESCRIPTION:
URL:https://cpcbalt.com/event/pozole/
CATEGORIES:TND
ATTACH;FMTTYPE=image/png:https://cpcbalt.com/wp-content/uploads/2024/09/Copy-of-Pozole-FB-Event.png
END:VEVENT
END:VCALENDAR