BEGIN:VCALENDAR
VERSION:2.0
PRODID:-//CPC - ECPv6.15.20//NONSGML v1.0//EN
CALSCALE:GREGORIAN
METHOD:PUBLISH
X-WR-CALNAME:CPC
X-ORIGINAL-URL:https://cpcbalt.com
X-WR-CALDESC:Events for CPC
REFRESH-INTERVAL;VALUE=DURATION:PT1H
X-Robots-Tag:noindex
X-PUBLISHED-TTL:PT1H
BEGIN:VTIMEZONE
TZID:America/New_York
BEGIN:DAYLIGHT
TZOFFSETFROM:-0500
TZOFFSETTO:-0400
TZNAME:EDT
DTSTART:20240310T070000
END:DAYLIGHT
BEGIN:STANDARD
TZOFFSETFROM:-0400
TZOFFSETTO:-0500
TZNAME:EST
DTSTART:20241103T060000
END:STANDARD
BEGIN:DAYLIGHT
TZOFFSETFROM:-0500
TZOFFSETTO:-0400
TZNAME:EDT
DTSTART:20250309T070000
END:DAYLIGHT
BEGIN:STANDARD
TZOFFSETFROM:-0400
TZOFFSETTO:-0500
TZNAME:EST
DTSTART:20251102T060000
END:STANDARD
BEGIN:DAYLIGHT
TZOFFSETFROM:-0500
TZOFFSETTO:-0400
TZNAME:EDT
DTSTART:20260308T070000
END:DAYLIGHT
BEGIN:STANDARD
TZOFFSETFROM:-0400
TZOFFSETTO:-0500
TZNAME:EST
DTSTART:20261101T060000
END:STANDARD
BEGIN:DAYLIGHT
TZOFFSETFROM:-0500
TZOFFSETTO:-0400
TZNAME:EDT
DTSTART:20270314T070000
END:DAYLIGHT
BEGIN:STANDARD
TZOFFSETFROM:-0400
TZOFFSETTO:-0500
TZNAME:EST
DTSTART:20271107T060000
END:STANDARD
END:VTIMEZONE
BEGIN:VEVENT
DTSTART;TZID=America/New_York:20260314T170000
DTEND;TZID=America/New_York:20260314T200000
DTSTAMP:20260423T161042
CREATED:20260225T212203Z
LAST-MODIFIED:20260225T212240Z
UID:10000212-1773507600-1773518400@cpcbalt.com
SUMMARY:Corned Beef Dinner
DESCRIPTION:
URL:https://cpcbalt.com/event/corned-beef-dinner/
END:VEVENT
BEGIN:VEVENT
DTSTART;TZID=America/New_York:20260312T180000
DTEND;TZID=America/New_York:20260312T210000
DTSTAMP:20260423T161042
CREATED:20260128T235102Z
LAST-MODIFIED:20260130T213420Z
UID:10000205-1773338400-1773349200@cpcbalt.com
SUMMARY:Taco Rice Bowls
DESCRIPTION:
URL:https://cpcbalt.com/event/taco-rice-bowls-4/2026-03-12/
ATTACH;FMTTYPE=image/png:https://cpcbalt.com/wp-content/uploads/2026/01/tacoricebowl.png
END:VEVENT
BEGIN:VEVENT
DTSTART;TZID=America/New_York:20260306T190000
DTEND;TZID=America/New_York:20260306T220000
DTSTAMP:20260423T161042
CREATED:20260225T213426Z
LAST-MODIFIED:20260225T213508Z
UID:10000213-1772823600-1772834400@cpcbalt.com
SUMMARY:Open Mic and Poetry
DESCRIPTION:
URL:https://cpcbalt.com/event/open-mic-and-poetry/
END:VEVENT
BEGIN:VEVENT
DTSTART;TZID=America/New_York:20260305T180000
DTEND;TZID=America/New_York:20260305T210000
DTSTAMP:20260423T161042
CREATED:20260304T230922Z
LAST-MODIFIED:20260304T230946Z
UID:10000215-1772733600-1772744400@cpcbalt.com
SUMMARY:Dyson’s Coconut Red Curry
DESCRIPTION:
URL:https://cpcbalt.com/event/dysons-coconut-red-curry/
END:VEVENT
BEGIN:VEVENT
DTSTART;TZID=America/New_York:20260228T180000
DTEND;TZID=America/New_York:20260228T220000
DTSTAMP:20260423T161042
CREATED:20260218T182914Z
LAST-MODIFIED:20260218T182932Z
UID:10000211-1772301600-1772316000@cpcbalt.com
SUMMARY:Chili Cook Off
DESCRIPTION:https://cpcbalt.com/special-event-2/
URL:https://cpcbalt.com/event/chili-cook-off/
END:VEVENT
BEGIN:VEVENT
DTSTART;TZID=America/New_York:20260226T180000
DTEND;TZID=America/New_York:20260226T210000
DTSTAMP:20260423T161042
CREATED:20260129T000550Z
LAST-MODIFIED:20260402T005820Z
UID:10000197-1772128800-1772139600@cpcbalt.com
SUMMARY:Orzo Pasta Dinner
DESCRIPTION:
URL:https://cpcbalt.com/event/orzo-pasta-dinner/2026-02-26/
ATTACH;FMTTYPE=image/png:https://cpcbalt.com/wp-content/uploads/2026/01/orzo.png
END:VEVENT
BEGIN:VEVENT
DTSTART;TZID=America/New_York:20260220T183000
DTEND;TZID=America/New_York:20260220T213000
DTSTAMP:20260423T161042
CREATED:20260205T015943Z
LAST-MODIFIED:20260205T021250Z
UID:10000210-1771612200-1771623000@cpcbalt.com
SUMMARY:Seafood Extravaganza: Shrimp Scampi
DESCRIPTION:
URL:https://cpcbalt.com/event/seafood-extravaganza-shrimp-scampi/
END:VEVENT
BEGIN:VEVENT
DTSTART;TZID=America/New_York:20260219T180000
DTEND;TZID=America/New_York:20260219T210000
DTSTAMP:20260423T161042
CREATED:20260128T235102Z
LAST-MODIFIED:20260130T213420Z
UID:10000204-1771524000-1771534800@cpcbalt.com
SUMMARY:Taco Rice Bowls
DESCRIPTION:
URL:https://cpcbalt.com/event/taco-rice-bowls-4/2026-02-19/
ATTACH;FMTTYPE=image/png:https://cpcbalt.com/wp-content/uploads/2026/01/tacoricebowl.png
END:VEVENT
BEGIN:VEVENT
DTSTART;TZID=America/New_York:20260217T180000
DTEND;TZID=America/New_York:20260217T210000
DTSTAMP:20260423T161042
CREATED:20260205T013803Z
LAST-MODIFIED:20260205T013929Z
UID:10000209-1771351200-1771362000@cpcbalt.com
SUMMARY:Fat Tuesday Dinner
DESCRIPTION:
URL:https://cpcbalt.com/event/fat-tuesday-dinner/
END:VEVENT
BEGIN:VEVENT
DTSTART;TZID=America/New_York:20260212T180000
DTEND;TZID=America/New_York:20260212T210000
DTSTAMP:20260423T161042
CREATED:20260129T000550Z
LAST-MODIFIED:20260402T005820Z
UID:10000196-1770919200-1770930000@cpcbalt.com
SUMMARY:Orzo Pasta Dinner
DESCRIPTION:
URL:https://cpcbalt.com/event/orzo-pasta-dinner/2026-02-12/
ATTACH;FMTTYPE=image/png:https://cpcbalt.com/wp-content/uploads/2026/01/orzo.png
END:VEVENT
BEGIN:VEVENT
DTSTART;TZID=America/New_York:20260208T180000
DTEND;TZID=America/New_York:20260208T220000
DTSTAMP:20260423T161042
CREATED:20260129T005328Z
LAST-MODIFIED:20260206T191507Z
UID:10000203-1770573600-1770588000@cpcbalt.com
SUMMARY:Superbowl
DESCRIPTION:
URL:https://cpcbalt.com/event/superbowl/
END:VEVENT
BEGIN:VEVENT
DTSTART;TZID=America/New_York:20260207T133000
DTEND;TZID=America/New_York:20260207T190000
DTSTAMP:20260423T161042
CREATED:20260128T234519Z
LAST-MODIFIED:20260130T214130Z
UID:10000182-1770471000-1770490800@cpcbalt.com
SUMMARY:Membership Conference
DESCRIPTION:
URL:https://cpcbalt.com/event/membership-conference-2/
END:VEVENT
BEGIN:VEVENT
DTSTART;TZID=America/New_York:20260205T180000
DTEND;TZID=America/New_York:20260205T210000
DTSTAMP:20260423T161042
CREATED:20260128T235102Z
LAST-MODIFIED:20260130T213420Z
UID:10000206-1770314400-1770325200@cpcbalt.com
SUMMARY:Taco Rice Bowls
DESCRIPTION:
URL:https://cpcbalt.com/event/taco-rice-bowls-4/2026-02-05/
ATTACH;FMTTYPE=image/png:https://cpcbalt.com/wp-content/uploads/2026/01/tacoricebowl.png
END:VEVENT
BEGIN:VEVENT
DTSTART;TZID=America/New_York:20251231T180000
DTEND;TZID=America/New_York:20251231T220000
DTSTAMP:20260423T161042
CREATED:20251203T211257Z
LAST-MODIFIED:20251203T211334Z
UID:10000181-1767204000-1767218400@cpcbalt.com
SUMMARY:New Year’s Eve: 10pm is the new Midnight
DESCRIPTION:
URL:https://cpcbalt.com/event/new-years-eve-10pm-is-the-new-midnight/
END:VEVENT
BEGIN:VEVENT
DTSTART;TZID=America/New_York:20251228T120000
DTEND;TZID=America/New_York:20251228T150000
DTSTAMP:20260423T161042
CREATED:20251203T205602Z
LAST-MODIFIED:20251210T201452Z
UID:10000180-1766923200-1766934000@cpcbalt.com
SUMMARY:Cookie Swap
DESCRIPTION:
URL:https://cpcbalt.com/event/cookie-swap/
END:VEVENT
BEGIN:VEVENT
DTSTART;TZID=America/New_York:20251220T130000
DTEND;TZID=America/New_York:20251220T170000
DTSTAMP:20260423T161042
CREATED:20251203T203313Z
LAST-MODIFIED:20251203T203348Z
UID:10000179-1766235600-1766250000@cpcbalt.com
SUMMARY:Winter Revelry
DESCRIPTION:
URL:https://cpcbalt.com/event/winter-revelry/
END:VEVENT
BEGIN:VEVENT
DTSTART;TZID=America/New_York:20251218T180000
DTEND;TZID=America/New_York:20251218T210000
DTSTAMP:20260423T161042
CREATED:20251119T231927Z
LAST-MODIFIED:20251203T201749Z
UID:10000178-1766080800-1766091600@cpcbalt.com
SUMMARY:Meatloaf Dinner
DESCRIPTION:
URL:https://cpcbalt.com/event/meatloaf-dinner/
END:VEVENT
BEGIN:VEVENT
DTSTART;TZID=America/New_York:20251212T190000
DTEND;TZID=America/New_York:20251212T220000
DTSTAMP:20260423T161042
CREATED:20251119T231118Z
LAST-MODIFIED:20251208T220142Z
UID:10000177-1765566000-1765576800@cpcbalt.com
SUMMARY:Levi & Leather - 'Twas the Night before 12 Days
DESCRIPTION:
URL:https://cpcbalt.com/event/levi-leather-twas-the-night-before-12-days/
END:VEVENT
BEGIN:VEVENT
DTSTART;TZID=America/New_York:20251211T180000
DTEND;TZID=America/New_York:20251211T210000
DTSTAMP:20260423T161042
CREATED:20251119T220254Z
LAST-MODIFIED:20251119T220321Z
UID:10000165-1765476000-1765486800@cpcbalt.com
SUMMARY:Cous Cous Dinner
DESCRIPTION:
URL:https://cpcbalt.com/event/cous-cous-dinner/
END:VEVENT
BEGIN:VEVENT
DTSTART;TZID=America/New_York:20251205T183000
DTEND;TZID=America/New_York:20251205T210000
DTSTAMP:20260423T161042
CREATED:20251119T230503Z
LAST-MODIFIED:20251203T215304Z
UID:10000176-1764959400-1764968400@cpcbalt.com
SUMMARY:Oyster Night
DESCRIPTION:
URL:https://cpcbalt.com/event/oyster-night/
END:VEVENT
BEGIN:VEVENT
DTSTART;TZID=America/New_York:20251204T180000
DTEND;TZID=America/New_York:20251204T210000
DTSTAMP:20260423T161042
CREATED:20250917T191814Z
LAST-MODIFIED:20250917T193416Z
UID:10000171-1764871200-1764882000@cpcbalt.com
SUMMARY:Enchiladas Dinner
DESCRIPTION:
URL:https://cpcbalt.com/event/enchiladas-dinner/2025-12-04/
END:VEVENT
BEGIN:VEVENT
DTSTART;TZID=America/New_York:20251122T183000
DTEND;TZID=America/New_York:20251122T210000
DTSTAMP:20260423T161042
CREATED:20251105T183857Z
LAST-MODIFIED:20251105T183926Z
UID:10000174-1763836200-1763845200@cpcbalt.com
SUMMARY:Mussels Diablo
DESCRIPTION:
URL:https://cpcbalt.com/event/mussels-diablo/
END:VEVENT
BEGIN:VEVENT
DTSTART;TZID=America/New_York:20251120T180000
DTEND;TZID=America/New_York:20251120T210000
DTSTAMP:20260423T161042
CREATED:20251119T223031Z
LAST-MODIFIED:20251119T224739Z
UID:10000175-1763661600-1763672400@cpcbalt.com
SUMMARY:Chili
DESCRIPTION:
URL:https://cpcbalt.com/event/chili/
END:VEVENT
BEGIN:VEVENT
DTSTART;TZID=America/New_York:20251114T190000
DTEND;TZID=America/New_York:20251114T220000
DTSTAMP:20260423T161042
CREATED:20251029T212852Z
LAST-MODIFIED:20251029T212915Z
UID:10000173-1763146800-1763157600@cpcbalt.com
SUMMARY:Levi & Leather
DESCRIPTION:
URL:https://cpcbalt.com/event/levi-leather-2/
END:VEVENT
BEGIN:VEVENT
DTSTART;TZID=America/New_York:20251113T180000
DTEND;TZID=America/New_York:20251113T210000
DTSTAMP:20260423T161042
CREATED:20250917T191814Z
LAST-MODIFIED:20250917T193416Z
UID:10000169-1763056800-1763067600@cpcbalt.com
SUMMARY:Enchiladas Dinner
DESCRIPTION:
URL:https://cpcbalt.com/event/enchiladas-dinner/2025-11-13/
END:VEVENT
BEGIN:VEVENT
DTSTART;TZID=America/New_York:20251101T100000
DTEND;TZID=America/New_York:20251101T130000
DTSTAMP:20260423T161042
CREATED:20251022T203129Z
LAST-MODIFIED:20251022T203149Z
UID:10000172-1761991200-1762002000@cpcbalt.com
SUMMARY:Fall Yard Work Day
DESCRIPTION:
URL:https://cpcbalt.com/event/fall-yard-work-day/
END:VEVENT
BEGIN:VEVENT
DTSTART;TZID=America/New_York:20251030T180000
DTEND;TZID=America/New_York:20251030T210000
DTSTAMP:20260423T161042
CREATED:20250917T191814Z
LAST-MODIFIED:20250917T193416Z
UID:10000168-1761847200-1761858000@cpcbalt.com
SUMMARY:Enchiladas Dinner
DESCRIPTION:
URL:https://cpcbalt.com/event/enchiladas-dinner/2025-10-30/
END:VEVENT
BEGIN:VEVENT
DTSTART;TZID=America/New_York:20251025T180000
DTEND;TZID=America/New_York:20251025T220000
DTSTAMP:20260423T161042
CREATED:20250903T202844Z
LAST-MODIFIED:20250903T204203Z
UID:10000156-1761415200-1761429600@cpcbalt.com
SUMMARY:CPC Halloween Party
DESCRIPTION:We’re leveling up one of our favorite traditions\, our annual Halloween Party\, and this year we’re taking it to the Baltimore Streetcar Museum for more room to get spooky. \n\n\n\nThis will be a NO jump scare party so prepare yourself for a night of bewitching queer Halloween fun. Expect eerie ghost stories\, a fierce costume contest\, train rides that rumble through the night\, and a DJ spinning tracks to keep the dance floor alive. \n\n\n\nWhether you’re in it for the storytelling\, the dancing\, or just an excuse to dress up and revel with community\, this night has it all. Queer joy\, a little campy creepiness\, and plenty of shadowy vibes.
URL:https://cpcbalt.com/event/cpc-halloween-party/
LOCATION:Baltimore Streetcar Museum\, 1901 Falls Rd\, Baltimore\, MD\, Maryland\, 21211\, United States
END:VEVENT
BEGIN:VEVENT
DTSTART;TZID=America/New_York:20251018T120000
DTEND;TZID=America/New_York:20251018T150000
DTSTAMP:20260423T161042
CREATED:20250917T180827Z
LAST-MODIFIED:20250917T181833Z
UID:10000160-1760788800-1760799600@cpcbalt.com
SUMMARY:CPC Family Day
DESCRIPTION:
URL:https://cpcbalt.com/event/cpc-family-day/
END:VEVENT
BEGIN:VEVENT
DTSTART;TZID=America/New_York:20251017T190000
DTEND;TZID=America/New_York:20251017T220000
DTSTAMP:20260423T161042
CREATED:20250917T180301Z
LAST-MODIFIED:20250917T180340Z
UID:10000159-1760727600-1760738400@cpcbalt.com
SUMMARY:Levi & Leather: Spicy Flannel
DESCRIPTION:
URL:https://cpcbalt.com/event/levi-leather-spicy-flannel/
END:VEVENT
END:VCALENDAR